BEGIN:VCALENDAR
VERSION:2.0
BEGIN:VEVENT
SUMMARY:Ericsson OSS/BSS Summit
DTSTART:20261020T070000Z
DTEND:20261021T150000Z
DTSTAMP:20260421T171452Z
UID:17bd0e6b-5f81-4476-8f67-bfaaf39a4db5
CREATED:20260421T171452Z
X-ALT-DESC;FMTTYPE=text/html:Reflecting on the OSS/BSS Summit 2025: Shaping the Innovative Connected World
LAST-MODIFIED:04/08/2026 09:58:05
LOCATION:Switzerland
STATUS:CONFIRMED
END:VEVENT
END:VCALENDAR
