BEGIN:VCALENDAR
VERSION:2.0
BEGIN:VEVENT
SUMMARY:Join us at the Core Network Summit 2026
DTSTART:20260506T070000Z
DTEND:20260507T150000Z
DTSTAMP:20260421T192431Z
UID:9b7d6a8c-6982-4219-99f4-4fd1aad1ee9b
CREATED:20260421T192431Z
X-ALT-DESC;FMTTYPE=text/html:Ericsson is pleased to announce that the Core Network Summit, exclusively for the Communication Service Provider (CSP) community, will take place in Rome in May 2026. This year´s host is Telecom Italia Mobile (TIM).
LAST-MODIFIED:03/16/2026 12:19:47
LOCATION:Rome, Italy
STATUS:CONFIRMED
END:VEVENT
END:VCALENDAR
