BEGIN:VCALENDAR
VERSION:2.0
BEGIN:VEVENT
SUMMARY:Ericsson at the event
DTSTART:20260616T070000Z
DTEND:20260618T140000Z
DTSTAMP:20260423T160311Z
UID:859ebec8-e34a-4f00-bb40-e8458dd55923
CREATED:20260423T160311Z
X-ALT-DESC;FMTTYPE=text/html:Join Ericsson at CCW and experience how secure, resilient connectivity is transforming the way professional users operate. From future-proof mobile broadband networks and precise positioning to cutting-edge cyber security, our booth brings together the solutions and the partner ecosystem that power mission-critical operations. Whether you work in public safety or enterprise communications, our experts are on hand to explore what the future looks like for your organization.
LAST-MODIFIED:04/22/2026 07:34:43
LOCATION:ExCel London, UK
STATUS:CONFIRMED
END:VEVENT
END:VCALENDAR
