BEGIN:VCALENDAR
VERSION:2.0
BEGIN:VEVENT
SUMMARY:Second quarter 2026 report
DTSTART:20260714T050000Z
DTEND:20260714T050000Z
DTSTAMP:20260421T152528Z
UID:bb7db1d7-4414-4617-9f3e-6f664896ab67
CREATED:20260421T152528Z
X-ALT-DESC;FMTTYPE=text/html:Ericsson publishes its financial report for the second quarter 2026 at approximately 7:00 AM CEST. 
LAST-MODIFIED:10/09/2025 08:37:19
LOCATION:
STATUS:CONFIRMED
END:VEVENT
END:VCALENDAR
