BEGIN:VCALENDAR
VERSION:2.0
BEGIN:VEVENT
SUMMARY:Third quarter 2026 report
DTSTART:20261015T050000Z
DTEND:20261015T050000Z
DTSTAMP:20260421T152528Z
UID:f7b02dcf-be00-48f3-9dfa-d0f862ec5b35
CREATED:20260421T152528Z
X-ALT-DESC;FMTTYPE=text/html:Ericsson publishes its financial report for the third quarter 2026 at approximately 7:00 AM CEST. 
LAST-MODIFIED:10/09/2025 08:39:58
LOCATION:
STATUS:CONFIRMED
END:VEVENT
END:VCALENDAR
