BEGIN:VCALENDAR
VERSION:2.0
BEGIN:VEVENT
SUMMARY:Quiet period
DTSTART:20260701T050000Z
DTEND:20260714T050000Z
DTSTAMP:20260422T154515Z
UID:eae3de2f-af32-4bab-bb5e-f209038ed9d9
CREATED:20260422T154515Z
X-ALT-DESC;FMTTYPE=text/html:<p>Ericsson maintains a quiet period beginning the first day of the first month of a fiscal quarter and lasting until the release of the financial report for such fiscal quarter. During this period, no investor/financial analyst meetings will be conducted.</p>
LAST-MODIFIED:11/27/2025 07:49:05
LOCATION:
STATUS:CONFIRMED
END:VEVENT
END:VCALENDAR
