BEGIN:VCALENDAR
VERSION:2.0
BEGIN:VEVENT
SUMMARY:Quiet period
DTSTART:20261001T050000Z
DTEND:20261015T050000Z
DTSTAMP:20260422T154514Z
UID:92db8f89-b370-4217-b435-79abad70cff8
CREATED:20260422T154514Z
X-ALT-DESC;FMTTYPE=text/html:<p>Ericsson maintains a quiet period beginning the first day of the first month of a fiscal quarter and lasting until the release of the financial report for such fiscal quarter. During this period, no investor/financial analyst meetings will be conducted.</p>
LAST-MODIFIED:11/27/2025 07:51:45
LOCATION:
STATUS:CONFIRMED
END:VEVENT
END:VCALENDAR
