BEGIN:VCALENDAR
VERSION:2.0
BEGIN:VEVENT
SUMMARY:Energy Projects Conference 2026
DTSTART:20260616T140000Z
DTEND:20260617T210000Z
DTSTAMP:20260420T131613Z
UID:7d0a1eee-8afa-4c0f-b09e-cc498fedd382
CREATED:20260420T131613Z
X-ALT-DESC;FMTTYPE=text/html:Ericsson will be participating at Energy Projects Conference June 16–17 at the George R. Brown Convention Center. Our team partners exclusively with energy operators across oil and gas, LNG, refining, petrochemicals, midstream, power generation, and nuclear. We welcome the opportunity to discuss real-world operational challenges and priorities. 
LAST-MODIFIED:04/16/2026 00:00:13
LOCATION:Location: 
George R Brown Convention Center
Houston, TX 
Booth: Q16

STATUS:CONFIRMED
END:VEVENT
END:VCALENDAR
